installing R.css in E:/biocbld/bbs-2.3-data-experiment/meat/faahKO.buildbin-libdir
Using auto-selected zip options ''
---------- Making package faahKO ------------
adding build stamp to DESCRIPTION
installing R files
installing inst files
installing data files
preparing package faahKO for lazy loading
installing man source files
installing indices
not zipping data
installing help
>>> Building/Updating help pages for package 'faahKO'
Formats: text html latex example chm
faahko text html latex example chm
Microsoft HTML Help Compiler 4.74.8702
Compiling e:\biocbld\bbs-2.3-data-experiment\meat\R.INSTALL.6852\faahKO\chm\faahKO.chm
Compile time: 0 minutes, 0 seconds
2 Topics
3 Local links
1 Internet link
1 Graphic
Created e:\biocbld\bbs-2.3-data-experiment\meat\R.INSTALL.6852\faahKO\chm\faahKO.chm, 17,607 bytes
Compression increased file by 9,001 bytes.
adding MD5 sums
packaged installation of package 'faahKO' as faahKO_1.2.1.zip
* DONE (faahKO)