* checking for file 'MVCClass/DESCRIPTION' ... OK
* preparing 'MVCClass':
* checking DESCRIPTION meta-information ... OK
* installing the package to re-build vignettes
installing R.css in E:/biocbld/bbs-2.2-bioc/tmpdir/Rinst522077001
---------- Making package MVCClass ------------
adding build stamp to DESCRIPTION
installing NAMESPACE file and metadata
installing R files
installing inst files
installing man source files
installing indices
installing help
Note: removing empty section \examples
Note: removing empty section \examples
Note: removing empty section \examples
Note: removing empty section \examples
Note: removing empty section \examples
Note: removing empty section \examples
Note: removing empty section \examples
Note: removing empty section \examples
Note: removing empty section \examples
Note: removing empty section \examples
Note: removing empty section \examples
Note: removing empty section \examples
Note: removing empty section \examples
Note: removing empty section \examples
Note: removing empty section \examples
Note: removing empty section \examples
Note: removing empty section \examples
Note: removing empty section \examples
Note: removing empty section \examples
Note: removing empty section \examples
Note: removing empty section \examples
Note: removing empty section \examples
Note: removing empty section \examples
Note: removing empty section \examples
Note: removing empty section \examples
Note: removing empty section \examples
Note: removing empty section \examples
Note: removing empty section \examples
Note: removing empty section \examples
Note: removing empty section \examples
Note: removing empty section \examples
Note: removing empty section \examples
Note: removing empty section \examples
Note: removing empty section \examples
Note: removing empty section \examples
Note: removing empty section \examples
Note: removing empty section \examples
Note: removing empty section \examples
Note: removing empty section \examples
Note: removing empty section \examples
Note: removing empty section \examples
Note: removing empty section \examples
Note: removing empty section \examples
Note: removing empty section \examples
Note: removing empty section \examples
Note: removing empty section \examples
>>> Building/Updating help pages for package 'MVCClass'
Formats: text html latex example chm
MVC-class text html latex chm
dfModel-class text html latex chm
gAddChildMessage-class text html latex chm
gAddDataMessage-class text html latex chm
gAddMessage-class text html latex chm
gAddViewMessage-class text html latex chm
gAskAncestorMessage-class text html latex chm
gEventFun-class text html latex chm
gMessage-class text html latex chm
gModel-class text html latex chm
gModifyMessage-class text html latex chm
gSendChildMessage-class text html latex chm
gSendParentMessage-class text html latex chm
gUpdateDataMessage-class text html latex chm
gUpdateMessage-class text html latex chm
gUpdateViewMessage-class text html latex chm
genView-class text html latex chm
linkedModelMVC-class text html latex chm
plotView-class text html latex chm
qqPlotView-class text html latex chm
sPlotView-class text html latex chm
singleModelMVC-class text html latex chm
spreadView-class text html latex chm
Microsoft HTML Help Compiler 4.74.8702
Compiling e:\biocbld\bbs-2.2-bioc\meat\MVCClass\chm\MVCClass.chm
Compile time: 0 minutes, 1 second
24 Topics
245 Local links
0 Internet links
1 Graphic
Created e:\biocbld\bbs-2.2-bioc\meat\MVCClass\chm\MVCClass.chm, 40,141 bytes
Compression decreased file by 90,499 bytes.
adding MD5 sums
* DONE (MVCClass)
* creating vignettes ... OK
* removing junk files
* checking for LF line-endings in source and make files
* checking for empty or unneeded directories
* building 'MVCClass_1.14.0.tar.gz'