Back to the "Multiple platform build/check report" |
Package 43/140 | Hostname | OS / Arch | BUILD | CHECK | BUILD BIN | ||||
facsDorit 1.4.6 Florian Hahne
| george2 | Linux (Ubuntu 12.04.1 LTS) / x86_64 | OK | OK | |||||
lamb2 | Linux (openSUSE 11.4) / x86_64 | [ OK ] | OK | ||||||
moscato2 | Windows Server 2008 R2 Enterprise SP1 (64-bit) / x64 | OK | OK | OK | |||||
petty | Mac OS X Leopard (10.5.8) / i386 | OK | OK | OK |
Package: facsDorit |
Version: 1.4.6 |
Command: /home/biocbuild/bbs-2.12-bioc/R/bin/R CMD build --keep-empty-dirs --no-resave-data facsDorit |
StartedAt: 2013-01-17 11:45:17 -0800 (Thu, 17 Jan 2013) |
EndedAt: 2013-01-17 11:45:27 -0800 (Thu, 17 Jan 2013) |
EllapsedTime: 9.8 seconds |
RetCode: 0 |
Status: OK |
PackageFile: facsDorit_1.4.6.tar.gz |
PackageFileSize: 21.58 MiB |
* checking for file ‘facsDorit/DESCRIPTION’ ... OK * preparing ‘facsDorit’: * checking DESCRIPTION meta-information ... OK * checking for LF line-endings in source and make files * checking for empty or unneeded directories WARNING: directory ‘facsDorit/inst/doc’ is empty * building ‘facsDorit_1.4.6.tar.gz’