Back to the "Multiple platform build/check report" |
This page was generated on 2013-10-08 16:07:24 -0700 (Tue, 08 Oct 2013).
Package 27/156 | Hostname | OS / Arch | BUILD | CHECK | BUILD BIN | ||||
charmData 0.99.8 Martin Aryee
| george2 | Linux (Ubuntu 12.04.1 LTS) / x86_64 | OK | WARNINGS | |||||
moscato2 | Windows Server 2008 R2 Enterprise SP1 (64-bit) / x64 | OK | WARNINGS | [ OK ] | |||||
petty | Mac OS X Snow Leopard (10.6.8) / x86_64 | OK | WARNINGS | OK |
Package: charmData |
Version: 0.99.8 |
Command: rm -rf charmData.buildbin-libdir && mkdir charmData.buildbin-libdir && E:\biocbld\bbs-2.12-bioc\R\bin\R.exe CMD INSTALL --build --merge-multiarch --library=charmData.buildbin-libdir charmData_0.99.8.tar.gz |
StartedAt: 2013-10-08 14:17:07 -0700 (Tue, 08 Oct 2013) |
EndedAt: 2013-10-08 14:33:12 -0700 (Tue, 08 Oct 2013) |
EllapsedTime: 965.7 seconds |
RetCode: 0 |
Status: OK |
PackageFile: charmData_0.99.8.zip |
PackageFileSize: 15.11 MiB |
install for i386 * installing *source* package 'charmData' ... ** data ** inst ** help *** installing help indices ** building package indices ** testing if installed package can be loaded Warning: package 'fields' was built under R version 3.0.2 install for x64 * installing *source* package 'charmData' ... ** testing if installed package can be loaded Warning: package 'fields' was built under R version 3.0.2 * MD5 sums packaged installation of 'charmData' as charmData_0.99.8.zip * DONE (charmData)