Back to the "Multiple platform build/check report" |
This page was generated on 2013-10-08 16:07:32 -0700 (Tue, 08 Oct 2013).
Package 96/156 | Hostname | OS / Arch | BUILD | CHECK | BUILD BIN | ||||
MAQCsubsetAFX 1.0.11 Laurent Gatto
| george2 | Linux (Ubuntu 12.04.1 LTS) / x86_64 | OK | OK | |||||
moscato2 | Windows Server 2008 R2 Enterprise SP1 (64-bit) / x64 | OK | OK | OK | |||||
petty | Mac OS X Snow Leopard (10.6.8) / x86_64 | OK | OK | [ OK ] |
Package: MAQCsubsetAFX |
Version: 1.0.11 |
Command: rm -rf MAQCsubsetAFX.buildbin-libdir && mkdir MAQCsubsetAFX.buildbin-libdir && /Users/biocbuild/BBS/utils/build-universal.sh MAQCsubsetAFX_1.0.11.tar.gz /Library/Frameworks/R.framework/Versions/Current/Resources/bin/R MAQCsubsetAFX.buildbin-libdir |
StartedAt: 2013-10-08 15:01:51 -0700 (Tue, 08 Oct 2013) |
EndedAt: 2013-10-08 15:03:38 -0700 (Tue, 08 Oct 2013) |
EllapsedTime: 106.4 seconds |
RetCode: 0 |
Status: OK |
PackageFile: MAQCsubsetAFX_1.0.11.tgz |
PackageFileSize: 38.85 MiB |
>>>>>>> >>>>>>> INSTALLATION WITH 'R CMD INSTALL --preclean --no-multiarch --library=MAQCsubsetAFX.buildbin-libdir MAQCsubsetAFX_1.0.11.tar.gz' >>>>>>> * installing *source* package 'MAQCsubsetAFX' ... ** data ** inst ** help *** installing help indices ** building package indices ** installing vignettes ** testing if installed package can be loaded * DONE (MAQCsubsetAFX)