Back to the "Multiple platform build/check report" A  B [C] D  E  F  G  H  I  J  K  L  M  N  O  P  Q  R  S  T  U  V  W  X  Y  Z 

Package 147/658HostnameOS / ArchBUILDCHECKBUILD BIN
convert 1.35.0
Yee Hwa (Jean) Yang
Snapshot Date: 2013-03-23 17:02:20 -0700 (Sat, 23 Mar 2013)
URL: https://hedgehog.fhcrc.org/bioconductor/trunk/madman/Rpacks/convert
Last Changed Rev: 72048 / Revision: 74756
Last Changed Date: 2012-12-19 09:59:39 -0800 (Wed, 19 Dec 2012)
george2 Linux (Ubuntu 12.04.1 LTS) / x86_64  OK  OK 
moscato2 Windows Server 2008 R2 Enterprise SP1 (64-bit) / x64  OK  OK  OK 
petty Mac OS X Leopard (10.5.8) / i386  OK  OK  OK 
pelham Mac OS X Snow Leopard (10.6.8) / x86_64  OK  OK [ OK ]

Summary

Package: convert
Version: 1.35.0
Command: rm -rf convert.buildbin-libdir && mkdir convert.buildbin-libdir && /Library/Frameworks/R.framework/Versions/Current/Resources/bin/R CMD INSTALL --build --no-multiarch --library=convert.buildbin-libdir convert_1.35.0.tar.gz
StartedAt: 2013-03-24 11:32:59 -0700 (Sun, 24 Mar 2013)
EndedAt: 2013-03-24 11:33:05 -0700 (Sun, 24 Mar 2013)
EllapsedTime: 6.3 seconds
RetCode: 0
Status:  OK 
PackageFile: convert_1.35.0.tgz
PackageFileSize: 84.51 KiB

Command output

* installing *source* package 'convert' ...
** R
** inst
** preparing package for lazy loading
** help
*** installing help indices
** building package indices
** installing vignettes
   'convert.Rnw' 
** testing if installed package can be loaded
packaged installation of 'convert' as 'convert_1.35.0.tgz'
* DONE (convert)