Back to the "Multiple platform build/check report" A  B  C  D  E  F  G [H] I  J  K  L  M  N  O  P  Q  R  S  T  U  V  W  X  Y  Z 

Package 304/658HostnameOS / ArchBUILDCHECKBUILD BIN
HCsnip 0.99.1
Askar Obulkasim
Snapshot Date: 2013-03-24 17:01:43 -0700 (Sun, 24 Mar 2013)
URL: https://hedgehog.fhcrc.org/bioconductor/trunk/madman/Rpacks/HCsnip
Last Changed Rev: 74535 / Revision: 74774
Last Changed Date: 2013-03-18 16:40:59 -0700 (Mon, 18 Mar 2013)
george2 Linux (Ubuntu 12.04.1 LTS) / x86_64  OK  OK 
moscato2 Windows Server 2008 R2 Enterprise SP1 (64-bit) / x64  OK  OK [ OK ]
petty Mac OS X Leopard (10.5.8) / i386  OK  OK  OK 

Summary

Package: HCsnip
Version: 0.99.1
Command: rm -rf HCsnip.buildbin-libdir && mkdir HCsnip.buildbin-libdir && E:\biocbld\bbs-2.12-bioc\R\bin\R.exe CMD INSTALL --build --merge-multiarch --library=HCsnip.buildbin-libdir HCsnip_0.99.1.tar.gz
StartedAt: 2013-03-25 05:49:39 -0700 (Mon, 25 Mar 2013)
EndedAt: 2013-03-25 05:50:00 -0700 (Mon, 25 Mar 2013)
EllapsedTime: 21.3 seconds
RetCode: 0
Status:  OK  
PackageFile: HCsnip_0.99.1.zip
PackageFileSize: 1.782 MiB

Command output


install for i386

* installing *source* package 'HCsnip' ...
** R
** data
** inst
** preparing package for lazy loading

randomSurvivalForest 3.6.3

Type rsf.news() to see new features, changes, and bug fixes.

** help
*** installing help indices
** building package indices
** installing vignettes
   'HCsnip.Rnw' 
** testing if installed package can be loaded

randomSurvivalForest 3.6.3

Type rsf.news() to see new features, changes, and bug fixes.


install for x64

* installing *source* package 'HCsnip' ...
** testing if installed package can be loaded

randomSurvivalForest 3.6.3

Type rsf.news() to see new features, changes, and bug fixes.

* MD5 sums
packaged installation of 'HCsnip' as HCsnip_0.99.1.zip
* DONE (HCsnip)