Back to the "Multiple platform build/check report" A  B [C] D  E  F  G  H  I  J  K  L  M  N  O  P  Q  R  S  T  U  V  W  X  Y  Z 

Package 100/658HostnameOS / ArchBUILDCHECKBUILD BIN
Category 2.25.1
Bioconductor Package Maintainer
Snapshot Date: 2013-03-23 17:02:20 -0700 (Sat, 23 Mar 2013)
URL: https://hedgehog.fhcrc.org/bioconductor/trunk/madman/Rpacks/Category
Last Changed Rev: 72298 / Revision: 74756
Last Changed Date: 2013-01-04 13:18:09 -0800 (Fri, 04 Jan 2013)
george2 Linux (Ubuntu 12.04.1 LTS) / x86_64  OK  OK 
moscato2 Windows Server 2008 R2 Enterprise SP1 (64-bit) / x64  OK  OK  OK 
petty Mac OS X Leopard (10.5.8) / i386  OK  OK  OK 
pelham Mac OS X Snow Leopard (10.6.8) / x86_64  OK [ OK ] OK 

Summary

Package: Category
Version: 2.25.1
Command: /Library/Frameworks/R.framework/Versions/Current/Resources/bin/R CMD check --no-vignettes --timings --no-multiarch Category_2.25.1.tar.gz
StartedAt: 2013-03-24 03:14:40 -0700 (Sun, 24 Mar 2013)
EndedAt: 2013-03-24 03:21:17 -0700 (Sun, 24 Mar 2013)
EllapsedTime: 396.6 seconds
RetCode: 0
Status:  OK 
CheckDir: Category.Rcheck
Warnings: 0

Command output

* using log directory '/Users/biocbuild/bbs-2.12-bioc/meat/Category.Rcheck'
* using R version 3.0.0 beta (2013-03-21 r62346)
* using platform: x86_64-apple-darwin10.8.0 (64-bit)
* using session charset: ASCII
* using option '--no-vignettes'
* checking for file 'Category/DESCRIPTION' ... OK
* this is package 'Category' version '2.25.1'
* checking package namespace information ... OK
* checking package dependencies ... OK
* checking if this is a source package ... OK
* checking if there is a namespace ... OK
* checking for hidden files and directories ... OK
* checking for portable file names ... OK
* checking for sufficient/correct file permissions ... OK
* checking whether package 'Category' can be installed ... [22s/23s] OK
* checking installed package size ... OK
* checking package directory ... OK
* checking DESCRIPTION meta-information ... OK
* checking top-level files ... OK
* checking for left-over files ... OK
* checking index information ... OK
* checking package subdirectories ... OK
* checking R files for non-ASCII characters ... OK
* checking R files for syntax errors ... OK
* checking whether the package can be loaded ... OK
* checking whether the package can be loaded with stated dependencies ... OK
* checking whether the package can be unloaded cleanly ... OK
* checking whether the namespace can be loaded with stated dependencies ... OK
* checking whether the namespace can be unloaded cleanly ... OK
* checking for unstated dependencies in R code ... OK
* checking S3 generic/method consistency ... OK
* checking replacement functions ... OK
* checking foreign function calls ... OK
* checking R code for possible problems ... OK
* checking Rd files ... OK
* checking Rd metadata ... OK
* checking Rd cross-references ... OK
* checking for missing documentation entries ... OK
* checking for code/documentation mismatches ... OK
* checking Rd \usage sections ... OK
* checking Rd contents ... OK
* checking for unstated dependencies in examples ... OK
* checking installed files from 'inst/doc' ... OK
* checking examples ... [78s/79s] OK
Examples with CPU or elapsed time > 5s
                    user system elapsed
ChrBandTree-class 25.886  0.533  26.560
MAPAmat           17.362  0.702  18.111
makeChrBandGraph  14.312  0.520  15.014
gseattperm         5.080  0.222   5.380
* checking for unstated dependencies in tests ... OK
* checking tests ...
  Running 'runTests.R' [94s/98s]
 [95s/99s] OK
* checking for unstated dependencies in vignettes ... OK
* checking package vignettes in 'inst/doc' ... OK
* checking running R code from vignettes ... SKIPPED
* checking re-building of vignettes ... SKIPPED
* checking PDF version of manual ... OK

Category.Rcheck/00install.out:

* installing *source* package 'Category' ...
** R
** inst
** preparing package for lazy loading
** help
*** installing help indices
** building package indices
** installing vignettes
   'Category.Rnw' 
   'ChromBand.Rnw' 
** testing if installed package can be loaded
* DONE (Category)

Category.Rcheck/Category-Ex.timings:

nameusersystemelapsed
ChrBandTree-class25.886 0.53326.560
ChrMapHyperGParams-class0.0050.0050.010
ChrMapHyperGResult-class0.0040.0040.008
ChrMapLinearMParams-class0.0130.0050.019
ChrMapLinearMResult-class0.0040.0050.009
DatPkg-class0.1230.0200.143
HyperGResult-accessors1.1810.0941.500
LinearMResult-class0.0030.0050.009
MAPAmat17.362 0.70218.111
applyByCategory0.0210.0070.027
cateGOryMatrix0.6740.0910.778
cb_parse_band_Hs0.0180.0030.021
cb_parse_band_Mm0.0030.0020.005
findAMstats0.0150.0060.022
getPathNames0.2180.0160.235
gseattperm5.0800.2225.380
makeChrBandGraph14.312 0.52015.014
makeEBcontr0.4290.0220.482
probes2MAP0.4220.0250.520
probes2Path0.1460.0160.182
ttperm0.0520.0140.074