Back to the "Multiple platform build/check report"
IMPORTANT NOTE: R was configured with --enable-strict-barrier on lamb1 |
Package 166/247 | Hostname | OS | Arch | BUILD | CHECK | BUILD BIN |
pathRender1.5.0Li LongLast Changed Date: 2007-05-11 21:56:41 -0700 Last Changed Rev: 24616 | lamb1 | Linux (SUSE 10.1) | x86_64 | OK | OK | |
wellington | Linux (SUSE 9.2) | i686 | OK | OK | ||
liverpool | Windows Server 2003 R2 (32-bit) | x64 | OK | OK | [ OK ] | |
pitt | Mac OS X (10.4.10) | i386 | OK | OK | OK |
Package: pathRender |
Version: 1.5.0 |
Command: E:\biocbld\bbs-2.1-bioc\R\bin\R.exe CMD INSTALL --build --library=pathRender.buildbin-libdir pathRender_1.5.0.tar.gz |
RetCode: 0 |
Time: 15.7 seconds |
Status: OK |
PackageFile: pathRender_1.5.0.zip |
installing R.css in E:/biocbld/bbs-2.1-bioc/meat/pathRender.buildbin-libdir Using auto-selected zip options '' ---------- Making package pathRender ------------ adding build stamp to DESCRIPTION installing NAMESPACE file and metadata installing R files preparing package pathRender for lazy loading Loading required package: graph Loading required package: Rgraphviz Loading required package: cMAP installing man source files installing indices installing help >>> Building/Updating help pages for package 'pathRender' Formats: text html latex example chm rendercMAP text html latex example chm Microsoft HTML Help Compiler 4.74.8702 Compiling e:\biocbld\bbs-2.1-bioc\meat\R.INSTALL.4576\pathRender\chm\pathRender.chm Compile time: 0 minutes, 0 seconds 2 Topics 2 Local links 0 Internet links 1 Graphic Created e:\biocbld\bbs-2.1-bioc\meat\R.INSTALL.4576\pathRender\chm\pathRender.chm, 16,287 bytes Compression increased file by 8,966 bytes. adding MD5 sums packaged installation of package 'pathRender' as pathRender_1.5.0.zip * DONE (pathRender)