Back to the "Multiple platform build/check report"
IMPORTANT NOTE: R was configured with --enable-strict-barrier on lamb1 |
Package 134/247 | Hostname | OS | Arch | BUILD | CHECK | BUILD BIN |
makePlatformDesign1.1.3Benilton CarvalhoLast Changed Date: 2007-08-06 23:20:53 -0700 Last Changed Rev: 26204 | lamb1 | Linux (SUSE 10.1) | x86_64 | OK | OK | |
wellington | Linux (SUSE 9.2) | i686 | OK | OK | ||
liverpool | Windows Server 2003 R2 (32-bit) | x64 | OK | OK | [ OK ] | |
pitt | Mac OS X (10.4.10) | i386 | OK | OK | OK |
Package: makePlatformDesign |
Version: 1.1.3 |
Command: E:\biocbld\bbs-2.1-bioc\R\bin\R.exe CMD INSTALL --build --library=makePlatformDesign.buildbin-libdir makePlatformDesign_1.1.3.tar.gz |
RetCode: 0 |
Time: 20.0 seconds |
Status: OK |
PackageFile: makePlatformDesign_1.1.3.zip |
installing R.css in E:/biocbld/bbs-2.1-bioc/meat/makePlatformDesign.buildbin-libdir Using auto-selected zip options '' ---------- Making package makePlatformDesign ------------ adding build stamp to DESCRIPTION making DLL ... making matchprobes.d from matchprobes.c making strutils.d from strutils.c gcc -IE:/biocbld/bbs-2.1-bioc/R/include -Wall -O3 -std=gnu99 -c matchprobes.c -o matchprobes.o gcc -IE:/biocbld/bbs-2.1-bioc/R/include -Wall -O3 -std=gnu99 -c strutils.c -o strutils.o windres -I E:/biocbld/bbs-2.1-bioc/R/include -i makePlatformDesign_res.rc -o makePlatformDesign_res.o gcc -shared -s -o makePlatformDesign.dll makePlatformDesign.def matchprobes.o strutils.o makePlatformDesign_res.o -LE:/biocbld/bbs-2.1-bioc/R/bin -lR ... DLL made installing DLL installing R files installing inst files installing man source files installing indices installing help >>> Building/Updating help pages for package 'makePlatformDesign' Formats: text html latex example chm makePDpackage text html latex example chm makePlatformDesign-internal text html latex chm Microsoft HTML Help Compiler 4.74.8702 Compiling e:\biocbld\bbs-2.1-bioc\meat\R.INSTALL.5228\makePlatformDesign\chm\makePlatformDesign.chm Compile time: 0 minutes, 0 seconds 3 Topics 36 Local links 0 Internet links 1 Graphic Created e:\biocbld\bbs-2.1-bioc\meat\R.INSTALL.5228\makePlatformDesign\chm\makePlatformDesign.chm, 18,971 bytes Compression decreased file by 2,052 bytes. preparing package makePlatformDesign for lazy loading Loading required package: affyio Loading required package: oligo Loading required package: Biobase Loading required package: tools Welcome to Bioconductor Vignettes contain introductory material. To view, type 'openVignette()'. To cite Bioconductor, see 'citation("Biobase")' and for packages 'citation(pkgname)'. Loading required package: splines Loading required package: RSQLite Loading required package: DBI Loading required package: BufferedMatrix Loading required package: BufferedMatrixMethods Loading required package: preprocessCore Loading required package: AnnotationDbi Loading required package: affxparser This is the oligo package adding MD5 sums packaged installation of package 'makePlatformDesign' as makePlatformDesign_1.1.3.zip * DONE (makePlatformDesign)