Package: systemPipeRdata Version: 2.12.0 Command: /home/biocbuild/bbs-3.21-bioc/R/bin/R CMD INSTALL systemPipeRdata StartedAt: 2025-04-24 10:56:39 -0400 (Thu, 24 Apr 2025) EndedAt: 2025-04-24 10:56:49 -0400 (Thu, 24 Apr 2025) EllapsedTime: 10.5 seconds RetCode: 0 Status: OK