Package: systemPipeRdata Version: 2.12.0 Command: /home/biocbuild/bbs-3.21-bioc/R/bin/R CMD check --install=check:systemPipeRdata.install-out.txt --library=/home/biocbuild/bbs-3.21-bioc/R/site-library --timings systemPipeRdata_2.12.0.tar.gz StartedAt: 2025-04-24 12:46:48 -0400 (Thu, 24 Apr 2025) EndedAt: 2025-04-24 12:49:20 -0400 (Thu, 24 Apr 2025) EllapsedTime: 152.3 seconds RetCode: 0 Status: OK CheckDir: systemPipeRdata.Rcheck Warnings: 0