Package: shinyMethylData Version: 1.28.0 Command: /home/biocbuild/bbs-3.21-bioc/R/bin/R CMD INSTALL shinyMethylData StartedAt: 2025-04-24 10:55:55 -0400 (Thu, 24 Apr 2025) EndedAt: 2025-04-24 10:56:10 -0400 (Thu, 24 Apr 2025) EllapsedTime: 14.7 seconds RetCode: 0 Status: OK