Package: shinyMethylData Version: 1.28.0 Command: /home/biocbuild/bbs-3.21-bioc/R/bin/R CMD check --install=check:shinyMethylData.install-out.txt --library=/home/biocbuild/bbs-3.21-bioc/R/site-library --timings shinyMethylData_1.28.0.tar.gz StartedAt: 2025-04-24 12:42:58 -0400 (Thu, 24 Apr 2025) EndedAt: 2025-04-24 12:43:16 -0400 (Thu, 24 Apr 2025) EllapsedTime: 17.7 seconds RetCode: 0 Status: WARNINGS CheckDir: shinyMethylData.Rcheck Warnings: 2