Package: seqc Version: 1.42.0 Maintainer: Yang Liao and Wei Shi MaintainerEmail: Wei.Shi at onjcri.org.au git_url: https://git.bioconductor.org/packages/seqc git_branch: RELEASE_3_21 git_last_commit: 9507cc9 git_last_commit_date: 2025-04-15 09:59:05 -0400 (Tue, 15 Apr 2025)