Package: scpdata Version: 1.16.0 Command: /home/biocbuild/bbs-3.21-bioc/R/bin/R CMD build --keep-empty-dirs --no-resave-data scpdata StartedAt: 2025-04-24 11:38:55 -0400 (Thu, 24 Apr 2025) EndedAt: 2025-04-24 11:39:53 -0400 (Thu, 24 Apr 2025) EllapsedTime: 58.0 seconds RetCode: 0 Status: OK PackageFile: scpdata_1.16.0.tar.gz PackageFileSize: 699 KiB