Package: scanMiRData Version: 1.14.0 Command: /home/biocbuild/bbs-3.21-bioc/R/bin/R CMD INSTALL scanMiRData StartedAt: 2025-04-24 10:58:05 -0400 (Thu, 24 Apr 2025) EndedAt: 2025-04-24 10:58:19 -0400 (Thu, 24 Apr 2025) EllapsedTime: 14.1 seconds RetCode: 0 Status: OK