Package: scRNAseq Version: 2.22.0 Command: /home/biocbuild/bbs-3.21-bioc/R/bin/R CMD INSTALL scRNAseq StartedAt: 2025-04-24 11:00:52 -0400 (Thu, 24 Apr 2025) EndedAt: 2025-04-24 11:01:36 -0400 (Thu, 24 Apr 2025) EllapsedTime: 43.8 seconds RetCode: 0 Status: OK