Package: scRNAseq Version: 2.22.0 Command: /home/biocbuild/bbs-3.21-bioc/R/bin/R CMD check --install=check:scRNAseq.install-out.txt --library=/home/biocbuild/bbs-3.21-bioc/R/site-library --timings scRNAseq_2.22.0.tar.gz StartedAt: 2025-04-24 12:41:59 -0400 (Thu, 24 Apr 2025) EndedAt: 2025-04-24 12:57:18 -0400 (Thu, 24 Apr 2025) EllapsedTime: 918.9 seconds RetCode: 0 Status: OK CheckDir: scRNAseq.Rcheck Warnings: 0