Package: scRNAseq Version: 2.22.0 Command: /home/biocbuild/bbs-3.21-bioc/R/bin/R CMD build --keep-empty-dirs --no-resave-data scRNAseq StartedAt: 2025-04-24 11:39:03 -0400 (Thu, 24 Apr 2025) EndedAt: 2025-04-24 11:40:12 -0400 (Thu, 24 Apr 2025) EllapsedTime: 69.3 seconds RetCode: 0 Status: OK PackageFile: scRNAseq_2.22.0.tar.gz PackageFileSize: 304.3 KiB