Package: scATAC.Explorer Version: 1.14.0 Command: /home/biocbuild/bbs-3.21-bioc/R/bin/R CMD INSTALL scATAC.Explorer StartedAt: 2025-04-24 11:02:51 -0400 (Thu, 24 Apr 2025) EndedAt: 2025-04-24 11:03:16 -0400 (Thu, 24 Apr 2025) EllapsedTime: 24.8 seconds RetCode: 0 Status: OK