Package: scATAC.Explorer Version: 1.14.0 Command: /home/biocbuild/bbs-3.21-bioc/R/bin/R CMD build --keep-empty-dirs --no-resave-data scATAC.Explorer StartedAt: 2025-04-24 11:38:33 -0400 (Thu, 24 Apr 2025) EndedAt: 2025-04-24 11:39:13 -0400 (Thu, 24 Apr 2025) EllapsedTime: 39.3 seconds RetCode: 0 Status: OK PackageFile: scATAC.Explorer_1.14.0.tar.gz PackageFileSize: 247.8 KiB