Package: rheumaticConditionWOLLBOLD Version: 1.46.0 Command: /home/biocbuild/bbs-3.21-bioc/R/bin/R CMD INSTALL rheumaticConditionWOLLBOLD StartedAt: 2025-04-24 10:55:31 -0400 (Thu, 24 Apr 2025) EndedAt: 2025-04-24 10:55:33 -0400 (Thu, 24 Apr 2025) EllapsedTime: 2.0 seconds RetCode: 0 Status: OK