Package: rheumaticConditionWOLLBOLD Version: 1.46.0 Command: /home/biocbuild/bbs-3.21-bioc/R/bin/R CMD check --install=check:rheumaticConditionWOLLBOLD.install-out.txt --library=/home/biocbuild/bbs-3.21-bioc/R/site-library --timings rheumaticConditionWOLLBOLD_1.46.0.tar.gz StartedAt: 2025-04-24 12:35:38 -0400 (Thu, 24 Apr 2025) EndedAt: 2025-04-24 12:35:56 -0400 (Thu, 24 Apr 2025) EllapsedTime: 18.6 seconds RetCode: 0 Status: OK CheckDir: rheumaticConditionWOLLBOLD.Rcheck Warnings: 0