Package: rcellminerData Version: 2.30.0 Command: /home/biocbuild/bbs-3.21-bioc/R/bin/R CMD INSTALL rcellminerData StartedAt: 2025-04-24 10:56:04 -0400 (Thu, 24 Apr 2025) EndedAt: 2025-04-24 10:56:30 -0400 (Thu, 24 Apr 2025) EllapsedTime: 25.7 seconds RetCode: 0 Status: OK