Package: rcellminerData Version: 2.30.0 Command: /home/biocbuild/bbs-3.21-bioc/R/bin/R CMD build --keep-empty-dirs --no-resave-data rcellminerData StartedAt: 2025-04-24 11:35:28 -0400 (Thu, 24 Apr 2025) EndedAt: 2025-04-24 11:39:59 -0400 (Thu, 24 Apr 2025) EllapsedTime: 270.1 seconds RetCode: 0 Status: OK PackageFile: rcellminerData_2.30.0.tar.gz PackageFileSize: 382 MiB