Package: pepDat Version: 1.28.0 Command: /home/biocbuild/bbs-3.21-bioc/R/bin/R CMD INSTALL pepDat StartedAt: 2025-04-24 11:00:11 -0400 (Thu, 24 Apr 2025) EndedAt: 2025-04-24 11:00:19 -0400 (Thu, 24 Apr 2025) EllapsedTime: 7.8 seconds RetCode: 0 Status: OK