Package: multiWGCNAdata Version: 1.6.0 Command: /home/biocbuild/bbs-3.21-bioc/R/bin/R CMD check --install=check:multiWGCNAdata.install-out.txt --library=/home/biocbuild/bbs-3.21-bioc/R/site-library --timings multiWGCNAdata_1.6.0.tar.gz StartedAt: 2025-04-24 12:27:36 -0400 (Thu, 24 Apr 2025) EndedAt: 2025-04-24 12:28:33 -0400 (Thu, 24 Apr 2025) EllapsedTime: 56.9 seconds RetCode: 0 Status: OK CheckDir: multiWGCNAdata.Rcheck Warnings: 0