Package: mosaicsExample Version: 1.46.0 Command: /home/biocbuild/bbs-3.21-bioc/R/bin/R CMD INSTALL mosaicsExample StartedAt: 2025-04-24 10:55:15 -0400 (Thu, 24 Apr 2025) EndedAt: 2025-04-24 10:55:18 -0400 (Thu, 24 Apr 2025) EllapsedTime: 2.5 seconds RetCode: 0 Status: OK