Package: microbiomeDataSets Version: 1.16.0 Command: /home/biocbuild/bbs-3.21-bioc/R/bin/R CMD INSTALL microbiomeDataSets StartedAt: 2025-04-24 11:01:17 -0400 (Thu, 24 Apr 2025) EndedAt: 2025-04-24 11:01:48 -0400 (Thu, 24 Apr 2025) EllapsedTime: 31.0 seconds RetCode: 0 Status: OK