Package: microbiomeDataSets Version: 1.16.0 Command: /home/biocbuild/bbs-3.21-bioc/R/bin/R CMD build --keep-empty-dirs --no-resave-data microbiomeDataSets StartedAt: 2025-04-24 11:29:31 -0400 (Thu, 24 Apr 2025) EndedAt: 2025-04-24 11:30:15 -0400 (Thu, 24 Apr 2025) EllapsedTime: 44.2 seconds RetCode: 0 Status: OK PackageFile: microbiomeDataSets_1.16.0.tar.gz PackageFileSize: 235 KiB