Package: miRcompData Version: 1.38.0 Command: /home/biocbuild/bbs-3.21-bioc/R/bin/R CMD check --install=check:miRcompData.install-out.txt --library=/home/biocbuild/bbs-3.21-bioc/R/site-library --timings miRcompData_1.38.0.tar.gz StartedAt: 2025-04-24 12:24:33 -0400 (Thu, 24 Apr 2025) EndedAt: 2025-04-24 12:24:56 -0400 (Thu, 24 Apr 2025) EllapsedTime: 23.3 seconds RetCode: 0 Status: OK CheckDir: miRcompData.Rcheck Warnings: 0