Package: miRcompData Version: 1.38.0 Command: /home/biocbuild/bbs-3.21-bioc/R/bin/R CMD build --keep-empty-dirs --no-resave-data miRcompData StartedAt: 2025-04-24 11:29:55 -0400 (Thu, 24 Apr 2025) EndedAt: 2025-04-24 11:29:56 -0400 (Thu, 24 Apr 2025) EllapsedTime: 1.0 seconds RetCode: 0 Status: OK PackageFile: miRcompData_1.38.0.tar.gz PackageFileSize: 8.654 MiB