Package: hapmap100khind Version: 1.50.0 Command: /home/biocbuild/bbs-3.21-bioc/R/bin/R CMD INSTALL hapmap100khind StartedAt: 2025-04-24 10:55:39 -0400 (Thu, 24 Apr 2025) EndedAt: 2025-04-24 10:55:42 -0400 (Thu, 24 Apr 2025) EllapsedTime: 2.7 seconds RetCode: 0 Status: OK