Package: golubEsets Version: 1.50.0 Maintainer: Vince Carey MaintainerEmail: stvjc at channing.harvard.edu git_url: https://git.bioconductor.org/packages/golubEsets git_branch: RELEASE_3_21 git_last_commit: 9ab1c6b git_last_commit_date: 2025-04-15 09:13:53 -0400 (Tue, 15 Apr 2025)