Package: geneLenDataBase Version: 1.44.0 Command: /home/biocbuild/bbs-3.21-bioc/R/bin/R CMD INSTALL geneLenDataBase StartedAt: 2025-04-24 11:01:14 -0400 (Thu, 24 Apr 2025) EndedAt: 2025-04-24 11:02:30 -0400 (Thu, 24 Apr 2025) EllapsedTime: 76.4 seconds RetCode: 0 Status: OK