Package: geneLenDataBase Version: 1.44.0 Command: /home/biocbuild/bbs-3.21-bioc/R/bin/R CMD check --install=check:geneLenDataBase.install-out.txt --library=/home/biocbuild/bbs-3.21-bioc/R/site-library --timings geneLenDataBase_1.44.0.tar.gz StartedAt: 2025-04-24 12:09:14 -0400 (Thu, 24 Apr 2025) EndedAt: 2025-04-24 12:18:13 -0400 (Thu, 24 Apr 2025) EllapsedTime: 538.7 seconds RetCode: 0 Status: OK CheckDir: geneLenDataBase.Rcheck Warnings: 0