Package: geneLenDataBase Version: 1.44.0 Command: /home/biocbuild/bbs-3.21-bioc/R/bin/R CMD build --keep-empty-dirs --no-resave-data geneLenDataBase StartedAt: 2025-04-24 11:19:12 -0400 (Thu, 24 Apr 2025) EndedAt: 2025-04-24 11:20:09 -0400 (Thu, 24 Apr 2025) EllapsedTime: 56.1 seconds RetCode: 0 Status: OK PackageFile: geneLenDataBase_1.44.0.tar.gz PackageFileSize: 95.79 MiB