Package: gcspikelite Version: 1.46.0 Command: /home/biocbuild/bbs-3.21-bioc/R/bin/R CMD INSTALL gcspikelite StartedAt: 2025-04-24 10:55:11 -0400 (Thu, 24 Apr 2025) EndedAt: 2025-04-24 10:55:12 -0400 (Thu, 24 Apr 2025) EllapsedTime: 1.6 seconds RetCode: 0 Status: OK