Package: gcspikelite Version: 1.46.0 Command: /home/biocbuild/bbs-3.21-bioc/R/bin/R CMD check --install=check:gcspikelite.install-out.txt --library=/home/biocbuild/bbs-3.21-bioc/R/site-library --timings gcspikelite_1.46.0.tar.gz StartedAt: 2025-04-24 12:09:01 -0400 (Thu, 24 Apr 2025) EndedAt: 2025-04-24 12:09:16 -0400 (Thu, 24 Apr 2025) EllapsedTime: 14.9 seconds RetCode: 0 Status: WARNINGS CheckDir: gcspikelite.Rcheck Warnings: 1