Package: gcspikelite Version: 1.46.0 Command: /home/biocbuild/bbs-3.21-bioc/R/bin/R CMD build --keep-empty-dirs --no-resave-data gcspikelite StartedAt: 2025-04-24 11:19:03 -0400 (Thu, 24 Apr 2025) EndedAt: 2025-04-24 11:19:56 -0400 (Thu, 24 Apr 2025) EllapsedTime: 52.5 seconds RetCode: 0 Status: OK PackageFile: gcspikelite_1.46.0.tar.gz PackageFileSize: 21.63 MiB