Package: gDRtestData Version: 1.6.0 Command: /home/biocbuild/bbs-3.21-bioc/R/bin/R CMD INSTALL gDRtestData StartedAt: 2025-04-24 10:56:01 -0400 (Thu, 24 Apr 2025) EndedAt: 2025-04-24 10:56:04 -0400 (Thu, 24 Apr 2025) EllapsedTime: 3.0 seconds RetCode: 0 Status: OK