Package: gDNAinRNAseqData Version: 1.8.0 Command: /home/biocbuild/bbs-3.21-bioc/R/bin/R CMD INSTALL gDNAinRNAseqData StartedAt: 2025-04-24 11:03:16 -0400 (Thu, 24 Apr 2025) EndedAt: 2025-04-24 11:03:33 -0400 (Thu, 24 Apr 2025) EllapsedTime: 17.1 seconds RetCode: 0 Status: OK