Package: gDNAinRNAseqData Version: 1.8.0 Command: /home/biocbuild/bbs-3.21-bioc/R/bin/R CMD check --install=check:gDNAinRNAseqData.install-out.txt --library=/home/biocbuild/bbs-3.21-bioc/R/site-library --timings gDNAinRNAseqData_1.8.0.tar.gz StartedAt: 2025-04-24 12:09:02 -0400 (Thu, 24 Apr 2025) EndedAt: 2025-04-24 12:11:48 -0400 (Thu, 24 Apr 2025) EllapsedTime: 166.0 seconds RetCode: 0 Status: OK CheckDir: gDNAinRNAseqData.Rcheck Warnings: 0