Package: diggitdata Version: 1.40.0 Maintainer: Mariano Javier Alvarez MaintainerEmail: reef103 at gmail.com git_url: https://git.bioconductor.org/packages/diggitdata git_branch: RELEASE_3_21 git_last_commit: 4925836 git_last_commit_date: 2025-04-15 09:59:43 -0400 (Tue, 15 Apr 2025)