Package: curatedCRCData Version: 2.40.0 Command: /home/biocbuild/bbs-3.21-bioc/R/bin/R CMD INSTALL curatedCRCData StartedAt: 2025-04-24 10:56:27 -0400 (Thu, 24 Apr 2025) EndedAt: 2025-04-24 10:56:34 -0400 (Thu, 24 Apr 2025) EllapsedTime: 6.8 seconds RetCode: 0 Status: OK