Package: chipseqDBData Version: 1.24.0 Command: /home/biocbuild/bbs-3.21-bioc/R/bin/R CMD INSTALL chipseqDBData StartedAt: 2025-04-24 11:00:34 -0400 (Thu, 24 Apr 2025) EndedAt: 2025-04-24 11:00:50 -0400 (Thu, 24 Apr 2025) EllapsedTime: 15.9 seconds RetCode: 0 Status: OK