Package: bsseqData Version: 0.46.0 Command: /home/biocbuild/bbs-3.21-bioc/R/bin/R CMD check --install=check:bsseqData.install-out.txt --library=/home/biocbuild/bbs-3.21-bioc/R/site-library --timings bsseqData_0.46.0.tar.gz StartedAt: 2025-04-24 11:49:21 -0400 (Thu, 24 Apr 2025) EndedAt: 2025-04-24 11:51:55 -0400 (Thu, 24 Apr 2025) EllapsedTime: 154.1 seconds RetCode: 0 Status: WARNINGS CheckDir: bsseqData.Rcheck Warnings: 1