Package: biscuiteerData Version: 1.22.0 Command: /home/biocbuild/bbs-3.21-bioc/R/bin/R CMD INSTALL biscuiteerData StartedAt: 2025-04-24 10:57:58 -0400 (Thu, 24 Apr 2025) EndedAt: 2025-04-24 10:58:16 -0400 (Thu, 24 Apr 2025) EllapsedTime: 17.9 seconds RetCode: 0 Status: OK