Package: biscuiteerData Version: 1.22.0 Command: /home/biocbuild/bbs-3.21-bioc/R/bin/R CMD build --keep-empty-dirs --no-resave-data biscuiteerData StartedAt: 2025-04-24 11:07:57 -0400 (Thu, 24 Apr 2025) EndedAt: 2025-04-24 11:08:27 -0400 (Thu, 24 Apr 2025) EllapsedTime: 30.6 seconds RetCode: 0 Status: OK PackageFile: biscuiteerData_1.22.0.tar.gz PackageFileSize: 188.3 KiB